BEGIN:VCALENDAR
PRODID:-//alvdalsflyg.se//EN
VERSION:2.0
METHOD:PUBLISH
BEGIN:VEVENT
DTSTART;TZID=America/New_York:20260528T180000
DTEND;TZID=America/New_York:20260528T200000
URL:https://alvdalsflyg.se/aktiviteter/kalender/fika-och-grillning/
SUMMARY:Fly-In/Grillkväll
LOCATION:Älvdalens flygfält
DESCRIPTION:Grill Fly-In i Älvdalen
END:VEVENT
END:VCALENDAR