BEGIN:VCALENDAR
PRODID:-//alvdalsflyg.se//EN
VERSION:2.0
METHOD:PUBLISH
BEGIN:VEVENT
DTSTART;TZID=America/New_York:20260807T
DTEND;TZID=America/New_York:20260809T
URL:https://alvdalsflyg.se/aktiviteter/kalender/musik-och-motorfestivalen/
SUMMARY:Musik och motorfestivalen
LOCATION:
DESCRIPTION:Klubben största evenemang!
END:VEVENT
END:VCALENDAR